BEGIN:VCALENDAR
VERSION:2.0
PRODID:-//MŠ Kotlaska - ECPv6.15.12.2//NONSGML v1.0//EN
CALSCALE:GREGORIAN
METHOD:PUBLISH
X-WR-CALNAME:MŠ Kotlaska
X-ORIGINAL-URL:https://mskotlaska.cz
X-WR-CALDESC:Akce na MŠ Kotlaska
REFRESH-INTERVAL;VALUE=DURATION:PT1H
X-Robots-Tag:noindex
X-PUBLISHED-TTL:PT1H
BEGIN:VTIMEZONE
TZID:Europe/Prague
BEGIN:DAYLIGHT
TZOFFSETFROM:+0100
TZOFFSETTO:+0200
TZNAME:CEST
DTSTART:20220327T010000
END:DAYLIGHT
BEGIN:STANDARD
TZOFFSETFROM:+0200
TZOFFSETTO:+0100
TZNAME:CET
DTSTART:20221030T010000
END:STANDARD
BEGIN:DAYLIGHT
TZOFFSETFROM:+0100
TZOFFSETTO:+0200
TZNAME:CEST
DTSTART:20230326T010000
END:DAYLIGHT
BEGIN:STANDARD
TZOFFSETFROM:+0200
TZOFFSETTO:+0100
TZNAME:CET
DTSTART:20231029T010000
END:STANDARD
BEGIN:DAYLIGHT
TZOFFSETFROM:+0100
TZOFFSETTO:+0200
TZNAME:CEST
DTSTART:20240331T010000
END:DAYLIGHT
BEGIN:STANDARD
TZOFFSETFROM:+0200
TZOFFSETTO:+0100
TZNAME:CET
DTSTART:20241027T010000
END:STANDARD
BEGIN:DAYLIGHT
TZOFFSETFROM:+0100
TZOFFSETTO:+0200
TZNAME:CEST
DTSTART:20250330T010000
END:DAYLIGHT
BEGIN:STANDARD
TZOFFSETFROM:+0200
TZOFFSETTO:+0100
TZNAME:CET
DTSTART:20251026T010000
END:STANDARD
BEGIN:DAYLIGHT
TZOFFSETFROM:+0100
TZOFFSETTO:+0200
TZNAME:CEST
DTSTART:20260329T010000
END:DAYLIGHT
BEGIN:STANDARD
TZOFFSETFROM:+0200
TZOFFSETTO:+0100
TZNAME:CET
DTSTART:20261025T010000
END:STANDARD
END:VTIMEZONE
BEGIN:VEVENT
DTSTART;TZID=Europe/Prague:20250618T090000
DTEND;TZID=Europe/Prague:20250618T103000
DTSTAMP:20260426T043756
CREATED:20250603T203357Z
LAST-MODIFIED:20250611T202451Z
UID:11077-1750237200-1750242600@mskotlaska.cz
SUMMARY:Robůtci v MŠ - Žabičky a Motýlci
DESCRIPTION:Vážení rodiče\, milí zákonní zástupci\,\nve středu 18. června 2025 proběhne během dopoledního vzdělávání v MŠ projektový den s roboty – Visible Vision – https://visiblevision.cz/ \nTento den se bude týkat starších tříd – Motýlci a Žabičky. \nDětem budou představeni roboti s umělou inteligencí – děti se dozví\, jak roboti fungují nebo jak je možné s nimi pracovat. \n 
URL:https://mskotlaska.cz/event/robutci-v-ms-zabicky-a-motylci/
ATTACH;FMTTYPE=image/png:https://mskotlaska.cz/wp-content/uploads/2025/06/streda_robutci-e1749673471798.png
END:VEVENT
BEGIN:VEVENT
DTSTART;TZID=Europe/Prague:20250604T080000
DTEND;TZID=Europe/Prague:20250604T110000
DTSTAMP:20260426T043756
CREATED:20250516T123804Z
LAST-MODIFIED:20250526T172926Z
UID:11034-1749024000-1749034800@mskotlaska.cz
SUMMARY:Konkurz do pěveckého sboru
DESCRIPTION:Vážení rodiče\, milí zákonní zástupci\,\nve středu 4. června 2025 v dopoledních hodinách se v naší MŠ uskuteční konkurz do pěveckého sboru od Českého rozhlasu. \nVšechny informace o konkurzu naleznete na přiloženém plakátě a základní informace o sboru jsou na adrese https://informace.rozhlas.cz/dps. \nPokud budete chtít\, aby se Vaše dítě zúčastnilo konkurzu v MŠ nahlaste třídním paní učitelkám. \nTým MŠ.
URL:https://mskotlaska.cz/event/konkurz-do-peveckeho-sboru/
ATTACH;FMTTYPE=image/png:https://mskotlaska.cz/wp-content/uploads/2025/05/Konkurz-do-peveckeho-sboru-e1747399074456.png
END:VEVENT
BEGIN:VEVENT
DTSTART;TZID=Europe/Prague:20250602T140000
DTEND;TZID=Europe/Prague:20250602T170000
DTSTAMP:20260426T043756
CREATED:20250506T054830Z
LAST-MODIFIED:20250506T143109Z
UID:8312-1748872800-1748883600@mskotlaska.cz
SUMMARY:Šerpování předškoláků a Zahradní slavnost
DESCRIPTION:Vážení rodiče\, milí zákonní zástupci a  příbuzní našich předškoláků\,\nvelice rádi bychom vás pozvali na slavnostní šerpování předškoláků\, které se bude konat v pondělí 2. června 2025 na Libeňském zámečku v obřadní síni od cca 14:00. \nOd 15:00 se na zahradě MŠ Kotlaska pro VŠECHNY děti i rodiče uskuteční Zahradní slavnost pro rozloučení se školním rokem\, kde na děti bude čekat malování na obličej\, DJ a možnost povozit se na kolotoči. Slavnost bude končit kolem 17:00. \nDěti si převezmete od paní učitelek proti podpisu o přebírání zodpovědnosti. Děti\, které nebudou převzati od zákonných zástupců\, budou ve třídě Berušek. \nTěšíme se na Vás!
URL:https://mskotlaska.cz/event/serpovani-predskolaku-a-zahradni-slavnost/
ATTACH;FMTTYPE=image/png:https://mskotlaska.cz/wp-content/uploads/2024/05/slavnost-e1746541697329.png
END:VEVENT
BEGIN:VEVENT
DTSTART;TZID=Europe/Prague:20250527T080000
DTEND;TZID=Europe/Prague:20250527T170000
DTSTAMP:20260426T043756
CREATED:20250505T142321Z
LAST-MODIFIED:20250521T110533Z
UID:8240-1748332800-1748365200@mskotlaska.cz
SUMMARY:Celodenní výlet
DESCRIPTION:Vážení rodiče\, milí zákonní zástupci\,\nv úterý 27. května 2025 vyrazíme s dětmi ze všech tříd na celodenní výlet do HRAD A ZÁMEK STARÉ HRADY . Pokud počasí dovolí jeli bychom s dětmi ještě projít zámecký park v Dětenicích. \nOdjezd z MŠ autobusem v 7:45 – sraz v MŠ do 7:30!!! Návrat cca v 16:30 – v době návratu prosíme sledujte Správu MŠ\, kde Vás budeme informovat o přesném příjezdu. \nS sebou dětem do batůžku (který bude dětem dobře držet na ramenou) dejte:  \n\npití (plnící lahve\, která NEPOTEČE)\njídlo na celý (svačina\, oběd\, odpolední svačina)\npapírové kapesníky\nnáhradní oblečení v samostatném sáčku\npláštěnku\npokrývku hlavy\npohodlnou obuv (budeme celý den chodit)\nsportovní oblečení přiměřené počasí\nmožnost vzít si malou hračku na cestu autobusem pro zkrácení dlouhé chvíle\n\nProsíme\, v tento den nedávejte dětem k snídani mléko ani mléčné výrobky\, aby se jim cestou autobusem neudělalo zle -> v daném případě hrozí platba čištění autobusu na vaše náklady. \nTěšíme se na výlet\,\nVaše paní učitelky.
URL:https://mskotlaska.cz/event/celodenni-vylet/
ATTACH;FMTTYPE=image/png:https://mskotlaska.cz/wp-content/uploads/2025/05/vylet-e1746524069652.png
END:VEVENT
BEGIN:VEVENT
DTSTART;TZID=Europe/Prague:20250522T090000
DTEND;TZID=Europe/Prague:20250522T113000
DTSTAMP:20260426T043756
CREATED:20250502T115735Z
LAST-MODIFIED:20250506T143927Z
UID:9938-1747904400-1747913400@mskotlaska.cz
SUMMARY:Záchranáři v MŠ
DESCRIPTION:Ve čtvrtek 22. května 2025 v dopoledních hodinách přijede na pozemek MŠ sanitka a záchranáři – děti se dozví\, jak záchranáři pracují a budou si moci prohlédnout sanitku. \nTěšíme se na malé zdravotníky.
URL:https://mskotlaska.cz/event/zachranari-v-ms/
ATTACH;FMTTYPE=image/jpeg:https://mskotlaska.cz/wp-content/uploads/2024/05/depositphotos_8891768-stock-illustration-yellow-ambulance-van-e1716811003690.jpg
END:VEVENT
BEGIN:VEVENT
DTSTART;TZID=Europe/Prague:20250521T090000
DTEND;TZID=Europe/Prague:20250521T113000
DTSTAMP:20260426T043756
CREATED:20250506T143847Z
LAST-MODIFIED:20250506T143847Z
UID:11003-1747818000-1747827000@mskotlaska.cz
SUMMARY:Bubnování v MŠ
DESCRIPTION:Vážení rodiče\, milí zákonní zástupci\,\nve středu 21. května 2025 proběhne v naší MŠ během dopoledních hodin bubnování s dětmi – pokud bude hezké počasí bude bubnování na zahradě MŠ. \nTým MŠ.
URL:https://mskotlaska.cz/event/bubnovani-v-ms/
ATTACH;FMTTYPE=image/jpeg:https://mskotlaska.cz/wp-content/uploads/2025/05/istockphoto-623204812-612x612-1-e1746542300505.jpg
END:VEVENT
BEGIN:VEVENT
DTSTART;TZID=Europe/Prague:20250430T080000
DTEND;TZID=Europe/Prague:20250430T120000
DTSTAMP:20260426T043756
CREATED:20250422T100946Z
LAST-MODIFIED:20250422T104130Z
UID:9834-1746000000-1746014400@mskotlaska.cz
SUMMARY:Čarodějnický rej
DESCRIPTION:Vážení rodiče\, milí zákonní zástupci\,\nve středu 30. dubna 2025 se v dopoledních hodinách bude v naší MŠ konat ČARODĚJNICKÝ REJ. \nV tento den mohou děti přijít do MŠ převlečeny za čarodějnici\, čaroděje nebo za cokoliv kouzelného co souvisí se svátkem čarodějnic. Pokud budete chtít můžete na tento den přinést malé občerstvení (s paragonem). \nTěšíme se na tento kouzelný den\,\nTým MŠ.
URL:https://mskotlaska.cz/event/carodejnicky-rej/
ATTACH;FMTTYPE=image/png:https://mskotlaska.cz/wp-content/uploads/2025/04/Carodejnicky-e1745318467172.png
END:VEVENT
BEGIN:VEVENT
DTSTART;TZID=Europe/Prague:20250429T100000
DTEND;TZID=Europe/Prague:20250429T110000
DTSTAMP:20260426T043756
CREATED:20240916T133513Z
LAST-MODIFIED:20250422T103425Z
UID:10241-1745920800-1745924400@mskotlaska.cz
SUMMARY:Divadélko v MŠ
DESCRIPTION:Kouzelné jablíčko\nPohádka o nezbedné princezně\, moudrém dědečkovi a hloupém Honzovi\, který k rozumu přišel\, ať chtěl či nechtěl. \n– náhrada za 9. dubna 2025 \nZačátek: 10:00\nDivadélko předvede: Divadlo Neklid
URL:https://mskotlaska.cz/event/divadelko-v-ms-17/
ATTACH;FMTTYPE=image/webp:https://mskotlaska.cz/wp-content/uploads/2024/09/depositphotos_2285234-stock-illustration-apple-e1743523119166.webp
END:VEVENT
BEGIN:VEVENT
DTSTART;TZID=Europe/Prague:20250319T100000
DTEND;TZID=Europe/Prague:20250319T110000
DTSTAMP:20260426T043756
CREATED:20240916T133016Z
LAST-MODIFIED:20240916T133016Z
UID:10238-1742378400-1742382000@mskotlaska.cz
SUMMARY:Divadélko v MŠ
DESCRIPTION:Na tom našem dvoře \nRoztomilá pohádka o kuřátku\, co se vylíhne ze skořápky a seznamuje se se zvířátky na farmě – s myšákem Myšpulí\, kočkou Semiškou\, pejskem Fouskem a krávou Doubravkou. Veselá pohádka i pro nejmenší děti\, plná zvířátek a známých písniček. \nZačátek: 10:00\nDivadélko převede: Divadlo koloběžka
URL:https://mskotlaska.cz/event/divadelko-v-ms-16/
ATTACH;FMTTYPE=image/jpeg:https://mskotlaska.cz/wp-content/uploads/2024/09/e3256b81-1ed3-11ed-9e28-9e966f951e90-e1726493365426.jpg
END:VEVENT
BEGIN:VEVENT
DTSTART;TZID=Europe/Prague:20250226T103000
DTEND;TZID=Europe/Prague:20250226T113000
DTSTAMP:20260426T043756
CREATED:20250122T144714Z
LAST-MODIFIED:20250212T211230Z
UID:10657-1740565800-1740569400@mskotlaska.cz
SUMMARY:Divadlo - Pejsek a kočička
DESCRIPTION:Vážení rodiče\, milí zákonní zástupci\,\nve středu 26. února 2025 vyrazíme se staršími třídami (Žabičky a Motýlci) do divadla v Bohnicích. Děti se mohou těšit na pohádku “O pejskovi a kočičce. \nPeníze na kino noste v hotovosti do své kmenové třídy. \nSvačinka bude v tento den posunutá na 8:00\, na oběd se vrátíme do MŠ. \nPaní učitelky z Žabiček a Motýlků. \n 
URL:https://mskotlaska.cz/event/divadlo-pejsek-a-kocicka/
ATTACH;FMTTYPE=image/jpeg:https://mskotlaska.cz/wp-content/uploads/2025/01/images.jpg
END:VEVENT
BEGIN:VEVENT
DTSTART;TZID=Europe/Prague:20250212T100000
DTEND;TZID=Europe/Prague:20250212T110000
DTSTAMP:20260426T043756
CREATED:20240916T120038Z
LAST-MODIFIED:20240916T120038Z
UID:10235-1739354400-1739358000@mskotlaska.cz
SUMMARY:Divadélko v MŠ
DESCRIPTION:Jak si Cizopaska s Bacilkou už ani neškrtly\nSourozenci Verunka a Vítek mají před sebou normální školní den. Ale už od rána na ně na každém rohu číhají dvě potvůrky: Cizopaska a Bacilka. Jak je možné\, že Verunce se obě vyhýbají\, ale Vítek to pokaždé schytá?\nZábavně-vzdělávací autorský příběh\, který je plný příkladů a poučení\, jak pečovat o své tělo a zdraví\, aby se vás už nikdy žádný bacil nezmocnil. \nZačátek: 10:00\nDivadélko předvede: Dobře naladěné divadlo
URL:https://mskotlaska.cz/event/divadelko-v-ms-15/
ATTACH;FMTTYPE=image/jpeg:https://mskotlaska.cz/wp-content/uploads/2024/09/img_4884-e1726488028670.jpg
END:VEVENT
BEGIN:VEVENT
DTSTART;TZID=Europe/Prague:20241218T100000
DTEND;TZID=Europe/Prague:20241218T110000
DTSTAMP:20260426T043756
CREATED:20240916T115724Z
LAST-MODIFIED:20240916T115724Z
UID:10232-1734516000-1734519600@mskotlaska.cz
SUMMARY:Divadélko v MŠ
DESCRIPTION:Čas zázraků \nRozmazlená Majdalenka si k Vánocům přeje panenku\, kterou by jí všechny holky záviděly. Zapomíná však na to\, že jsou na světě důležitější věci než dárky. A proto se panenka Elenka rozhodne vstoupit Majdalence do snu a vzít jí na poučnou cestu světem. \nZačátek: 10:00\nDivadélko předvede: Dobře naladěné divadlo
URL:https://mskotlaska.cz/event/divadelko-v-ms-14/
ATTACH;FMTTYPE=image/jpeg:https://mskotlaska.cz/wp-content/uploads/2024/09/cas_vymena_2-e1726487807783.jpg
END:VEVENT
BEGIN:VEVENT
DTSTART;TZID=Europe/Prague:20241113T100000
DTEND;TZID=Europe/Prague:20241113T110000
DTSTAMP:20260426T043756
CREATED:20240916T115134Z
LAST-MODIFIED:20240916T115218Z
UID:10227-1731492000-1731495600@mskotlaska.cz
SUMMARY:Hudební představení v MŠ
DESCRIPTION:Z Pohádky do pohádky\nV listopadu nás čeká hudební představení nesoucí název “Z pohádky do pohádky” – tak to jsme zvědaví\, které pohádky v písničkách poznáme. \nZačátek: 10:00\nHudební představení předvede: Jiří Bílý
URL:https://mskotlaska.cz/event/divadelko-v-ms-13/
ATTACH;FMTTYPE=image/jpeg:https://mskotlaska.cz/wp-content/uploads/2024/09/piccit_disney_characters_1920x1200_2016378203-1680x0-1-e1726487459959.jpg
END:VEVENT
BEGIN:VEVENT
DTSTART;TZID=Europe/Prague:20241106T090000
DTEND;TZID=Europe/Prague:20241106T120000
DTSTAMP:20260426T043756
CREATED:20241017T212028Z
LAST-MODIFIED:20241025T125334Z
UID:10356-1730883600-1730894400@mskotlaska.cz
SUMMARY:Dentální prevence
DESCRIPTION:Vážení rodiče\, milí zákonní zástupci\,\nve středu 6. listopadu proběhne v naší MŠ program Dentální prevence v rámci projektu Dental Prevention. Děti se zábavnou formou dozví\, jak by si správně měly čistit zoubky a jak o ně pečovat\, aby měly krásné úsměvy. Program proběhne během dopoledního vzdělávání v rámci jednotlivých tříd. \nProsíme\, aby si v tento den donesly kartáčky na zuby. \nhttps://dentalprevention.cz/informace-pro-verejnost/ \nTým MŠ Kotlaska.
URL:https://mskotlaska.cz/event/dentalni-prevence/
ATTACH;FMTTYPE=image/jpeg:https://mskotlaska.cz/wp-content/uploads/2023/05/roztomily-kresleny-zub-charakter-hospodarstvi-kartacek-na-zuby-koncepce-zubni-pece-vektorove-ilustrace-izolovane-na-bilem-pozadi-700-139449667-e1683720086345.jpg
END:VEVENT
BEGIN:VEVENT
DTSTART;TZID=Europe/Prague:20241003T100000
DTEND;TZID=Europe/Prague:20241003T110000
DTSTAMP:20260426T043756
CREATED:20240912T110002Z
LAST-MODIFIED:20240917T114907Z
UID:10222-1727949600-1727953200@mskotlaska.cz
SUMMARY:Divadélko v MŠ
DESCRIPTION:Kouzelný knoflík \nHanička má moc ráda jídlo\, Kuba je smolař\, který si nevěří. Jak pomocí kouzelného knoflíku dosáhnout společného štěstí? To se s dětmi dozvíme v divadélku\, které k nám říjnu přijede. \n\nZačátek: 10:00
URL:https://mskotlaska.cz/event/divadelko-v-ms-12/
ATTACH;FMTTYPE=image/webp:https://mskotlaska.cz/wp-content/uploads/2024/09/Plakat_kouzelny_knoflik-1-e1726573738507.webp
END:VEVENT
BEGIN:VEVENT
DTSTART;TZID=Europe/Prague:20240621T093000
DTEND;TZID=Europe/Prague:20240621T110000
DTSTAMP:20260426T043756
CREATED:20240614T052854Z
LAST-MODIFIED:20240614T052924Z
UID:10019-1718962200-1718967600@mskotlaska.cz
SUMMARY:Divadlo ZŠ Bohumila Hrabala
DESCRIPTION:Vážení rodiče\, milí zákonní zástupci\,\nv pátek 21. června 2024 v dopoledních hodinách vyrazíme do blízké základní školy Bohumila Hrabala. Bude nás tam čekat divadélko české pohádky “Což takhle svatba princi”. \nTěší se\,\nVáš tým MŠ Kotlaska.
URL:https://mskotlaska.cz/event/divadlo-zs-bohumila-hrabala/
ATTACH;FMTTYPE=image/png:https://mskotlaska.cz/wp-content/uploads/2024/06/zs-hrabala.png
END:VEVENT
BEGIN:VEVENT
DTSTART;TZID=Europe/Prague:20240620T163000
DTEND;TZID=Europe/Prague:20240620T170000
DTSTAMP:20260426T043756
CREATED:20240614T052555Z
LAST-MODIFIED:20240614T053253Z
UID:10017-1718901000-1718902800@mskotlaska.cz
SUMMARY:Schůzky nově přijatých dětí
DESCRIPTION:Vážení rodiče\, milí zákonní zástupci\,\nve čtvrtek 20. června 2024 od 16:30 proběhne ve třídě RYBIČEK třídní schůzka pro nově přijaté děti. \nPokud vaše dítě patří mezi nově přijaté děti a v září 2024 nastoupí do naší MŠ\, je účast na třídních schůzkách nutná. Na třídních schůzkách se dozvíte podstatné informace\, které pro vás budou stěžejní po celý školní rok\, bude prostor i pro dotazy. \nTěšíme se na vás\,\nPaní učitelky z MŠ Kotlaska. \n 
URL:https://mskotlaska.cz/event/schuzky-nove-prijatych-deti/
ATTACH;FMTTYPE=image/png:https://mskotlaska.cz/wp-content/uploads/2024/05/schuze.png
END:VEVENT
BEGIN:VEVENT
DTSTART;TZID=Europe/Prague:20240606T100000
DTEND;TZID=Europe/Prague:20240606T103000
DTSTAMP:20260426T043756
CREATED:20240220T154114Z
LAST-MODIFIED:20240527T120054Z
UID:9554-1717668000-1717669800@mskotlaska.cz
SUMMARY:Cvičení s dětmi v Mš
DESCRIPTION:Cvičení se všestranným pohybovým zaměřením tento týden proběhne ve třídě RYBIČEK. \nVíce informací zde: https://mskotlaska.cz/9543-2/
URL:https://mskotlaska.cz/event/cviceni-s-detmi-v-ms-2/
ATTACH;FMTTYPE=image/png:https://mskotlaska.cz/wp-content/uploads/2023/01/rybka-e1708443742842.png
END:VEVENT
BEGIN:VEVENT
DTSTART;TZID=Europe/Prague:20240530T100000
DTEND;TZID=Europe/Prague:20240530T120000
DTSTAMP:20260426T043756
CREATED:20240527T100453Z
LAST-MODIFIED:20240527T115958Z
UID:8304-1717063200-1717070400@mskotlaska.cz
SUMMARY:Den dětí v MŠ
DESCRIPTION:Den dětí je pro nás moc důležitý svátek a v naší školce tento den jen tak přejít. Proto 30. května 2024 v dopoledních hodinách pro děti bude na školní zahradě uspořádána dětská olympiáda v rámci naší MŠ.  Děti se mohou těšit na spoustu zábavy\, zajímavé disciplíny a i nějaké odměny. \nNa tento výjimečný den se těší\,\nVaše paní učitelky.
URL:https://mskotlaska.cz/event/den-deti-v-ms/
ATTACH;FMTTYPE=image/webp:https://mskotlaska.cz/wp-content/uploads/2023/04/depositphotos_1919027-stock-photo-olympic-rings.webp
END:VEVENT
BEGIN:VEVENT
DTSTART;TZID=Europe/Prague:20240523T100000
DTEND;TZID=Europe/Prague:20240523T103000
DTSTAMP:20260426T043756
CREATED:20240220T153934Z
LAST-MODIFIED:20240528T055905Z
UID:9552-1716458400-1716460200@mskotlaska.cz
SUMMARY:Cvičení s dětmi v MŠ
DESCRIPTION:Cvičení se všestranným pohybovým zaměřením tento týden proběhne ve třídě BERUŠEK. \nVíce informací zde: https://mskotlaska.cz/9543-2/
URL:https://mskotlaska.cz/event/cviceni-s-detmi/
ATTACH;FMTTYPE=image/png:https://mskotlaska.cz/wp-content/uploads/2023/01/lienka-e1708443546102.png
END:VEVENT
BEGIN:VEVENT
DTSTART;TZID=Europe/Prague:20240516T100000
DTEND;TZID=Europe/Prague:20240516T103000
DTSTAMP:20260426T043756
CREATED:20240220T152517Z
LAST-MODIFIED:20240503T120908Z
UID:9546-1715853600-1715855400@mskotlaska.cz
SUMMARY:Cvičení s dětmi v MŠ
DESCRIPTION:Cvičení se všestranným pohybovým zaměřením tento týden proběhne ve třídě MOTÝLKŮ. \nVíce informací zde: https://mskotlaska.cz/9543-2/
URL:https://mskotlaska.cz/event/cviceni-v-ms/
ATTACH;FMTTYPE=image/png:https://mskotlaska.cz/wp-content/uploads/2023/01/motylik-e1708443345747.png
END:VEVENT
BEGIN:VEVENT
DTSTART;VALUE=DATE:20240506
DTEND;VALUE=DATE:20240508
DTSTAMP:20260426T043756
CREATED:20240223T070035Z
LAST-MODIFIED:20240503T121442Z
UID:9513-1714953600-1715126399@mskotlaska.cz
SUMMARY:Zápisy dětí do MŠ pro školní rok 2024/2025
DESCRIPTION:Vážení rodiče\, milí zákonní zástupci\,\nzápis dětí do Mateřské školy Kotlaska se uskuteční ve dnech pondělí 6. května a úterý 7. května 2024 od 13.00 do 17.00 hodin. \nNezapomeňte s sebou:  \n\nObčanský průkaz zákonného zástupce\nRodný list dítěte\nŽádost o přijetí k předškolnímu vzdělávání –  Žádost o přijetí do MŠ\nEvidenční list potvrzený od dětského lékaře – Evidenční list\nU cizinců rodný list dítěte (kopie) nebo platný pas (kopie) s povoleným pobytem delším než 90 dnů + kopie platného pasu zákonného zástupce.\n\n!!!Evidenční list a žádost o přijetí do MŠ doneste k zápisu vytištěné a již vyplněné!!!\n \nDokumenty je také možné vyzvednout na dni otevřených dveří naší MŠ\, který se koná 17. dubna 2024. \nPřipomínáme\, že zákonný zástupce dítěte\, které dosáhne do 31. 08. 2024 pěti let\, má povinnost dítě přihlásit k zápisu k předškolnímu vzdělávání. Pro tyto děti je předškolní vzdělávání povinné. \nZápis dětí k předškolnímu vzdělávání – dokument s dalšími informacemi z městské části Praha 8. \nhttps://www.praha8.cz/Zapis-deti-k-predskolnimu-vzdelavani-do-materskych-skol-mestske-casti-Praha-8-pro-skolni-rok-2024-2025.html
URL:https://mskotlaska.cz/event/9513/
ATTACH;FMTTYPE=image/jpeg:https://mskotlaska.cz/wp-content/uploads/2024/02/2160270-papper-och-fjader-penna-hand-ritning-vector-e1714738436810.jpg
END:VEVENT
BEGIN:VEVENT
DTSTART;TZID=Europe/Prague:20240424T100000
DTEND;TZID=Europe/Prague:20240424T110000
DTSTAMP:20260426T043756
CREATED:20230917T161708Z
LAST-MODIFIED:20230917T161708Z
UID:8812-1713952800-1713956400@mskotlaska.cz
SUMMARY:Divadélko v MŠ
DESCRIPTION:O Neposlušné čarodějnici \nDubnové divadélko bude vyprávět o tom\, jak se během prožitých dobrodružství z malé „neposlušné“ čarodějnice stane „dobrá“ čarodějnice. \n\nZačátek: 10:00\nDivadélko předvede: Divadlo Žlutý kopec
URL:https://mskotlaska.cz/event/divadelko-v-ms-11/
ATTACH;FMTTYPE=image/jpeg:https://mskotlaska.cz/wp-content/uploads/2023/09/o-neposlusne-carodejnici-e1694967415546.jpg
END:VEVENT
BEGIN:VEVENT
DTSTART;TZID=Europe/Prague:20240418T100000
DTEND;TZID=Europe/Prague:20240418T103000
DTSTAMP:20260426T043756
CREATED:20240220T153621Z
LAST-MODIFIED:20240325T131109Z
UID:9549-1713434400-1713436200@mskotlaska.cz
SUMMARY:Cvičení s dětmi v MŠ
DESCRIPTION:Cvičení se všestranným pohybovým zaměřením tento týden proběhne ve třídě ŽABIČEK. \nVíce informací zde: https://mskotlaska.cz/9543-2/
URL:https://mskotlaska.cz/event/cviceni-s-detmi-v-ms/
ATTACH;FMTTYPE=image/png:https://mskotlaska.cz/wp-content/uploads/2023/01/zabka-e1708443321539.png
END:VEVENT
BEGIN:VEVENT
DTSTART;TZID=Europe/Prague:20240207T100000
DTEND;TZID=Europe/Prague:20240207T110000
DTSTAMP:20260426T043756
CREATED:20230917T160433Z
LAST-MODIFIED:20230917T161855Z
UID:8806-1707300000-1707303600@mskotlaska.cz
SUMMARY:Divadélko v MŠ
DESCRIPTION:O holčičce\, která zlobila \nDěti\, už jste někdy zlobily? Každý má někdy špatný den. Ale pozor děti\, aby jste to se zlobením rodičů nebo paní učitelek nepřehnaly\, může se vám stát to samé\, co se stalo jedné zlobivé holčičce. \n\nZačátek: 10:00\nDivadélko předvede: Divadlo Kasperle
URL:https://mskotlaska.cz/event/divadelko-v-ms-9/
ATTACH;FMTTYPE=image/jpeg:https://mskotlaska.cz/wp-content/uploads/2023/09/O-holcice-ktera-zlovila-e1694966628427.jpeg
END:VEVENT
BEGIN:VEVENT
DTSTART;TZID=Europe/Prague:20240117T100000
DTEND;TZID=Europe/Prague:20240117T110000
DTSTAMP:20260426T043756
CREATED:20230917T161157Z
LAST-MODIFIED:20230917T161157Z
UID:8809-1705485600-1705489200@mskotlaska.cz
SUMMARY:Divadélko v MŠ
DESCRIPTION:Princezna Čokoláda \nCo se stane\, když budeme jíst moc čokolády a sladkého? Bude nás bolet bříško a zkazí se nám zoubky. Naše princezna má sladké ale moc ráda\, hlavně čokoládu a strašně se přejedla\, kdo jí teď pomůže? \n\nZačátek: 10:00\nDivadélko předvede: Dobře naladěné divadlo
URL:https://mskotlaska.cz/event/divadelko-v-ms-10/
ATTACH;FMTTYPE=image/jpeg:https://mskotlaska.cz/wp-content/uploads/2023/09/princezna-cokoska-e1694967092676.jpg
END:VEVENT
BEGIN:VEVENT
DTSTART;VALUE=DATE:20231223
DTEND;VALUE=DATE:20240102
DTSTAMP:20260426T043756
CREATED:20231218T201301Z
LAST-MODIFIED:20231218T201301Z
UID:9272-1703289600-1704153599@mskotlaska.cz
SUMMARY:Vánoční prázdniny
DESCRIPTION:Vážení rodiče\, milí zákonní zástupci\,\nod 23. 12. 2023 do 1.1.2024 budou vánoční prázdniny – MŠ bude v uzavřena. \nPřejeme Vám\, krásné prožití svátků a šťastný Nový rok 2024! \nTým MŠ
URL:https://mskotlaska.cz/event/vanocni-prazdniny/
END:VEVENT
BEGIN:VEVENT
DTSTART;TZID=Europe/Prague:20231206T104000
DTEND;TZID=Europe/Prague:20231206T114000
DTSTAMP:20260426T043756
CREATED:20230917T155133Z
LAST-MODIFIED:20230917T155501Z
UID:8803-1701859200-1701862800@mskotlaska.cz
SUMMARY:Divadélko v MŠ
DESCRIPTION:Trampoty čerta Huberta \nAjaj! K nám do školky se zatoulal čert Hubert. Ale co tady chce? Zlobivé děti? Vždyť my tu žádné nemáme…to bude spíš zase nějaká jeho trampota\, tak třeba bude potřebovat naši pomoc. \n\nZačátek: 10:40\nDivadélko předvede: Divadlo Koloběžka
URL:https://mskotlaska.cz/event/divadelko-v-ms-8/
ATTACH;FMTTYPE=image/png:https://mskotlaska.cz/wp-content/uploads/2023/09/Trampoty-certa-huberta-e1694966083368.png
END:VEVENT
BEGIN:VEVENT
DTSTART;TZID=Europe/Prague:20231115T100000
DTEND;TZID=Europe/Prague:20231115T110000
DTSTAMP:20260426T043756
CREATED:20230917T154308Z
LAST-MODIFIED:20230917T154308Z
UID:8800-1700042400-1700046000@mskotlaska.cz
SUMMARY:Divadélko v MŠ
DESCRIPTION:Projdeme to pro ZOO \nVšichni máme rádi zvířátka. Kam ale můžeme vyrazit za zvířátky\, které u nás v přírodě jen tak nepotkáme? No přece do ZOO! Tak schválně koho tam potkáme… Lva? Žirafu? Nebo zebru? To se dozvíte\, jen když půjdete s námi. \n\nZačátek: 10:00\nDivadélko předvede: Jiří Bílý
URL:https://mskotlaska.cz/event/divadelko-v-ms-7/
ATTACH;FMTTYPE=image/webp:https://mskotlaska.cz/wp-content/uploads/2023/09/Projdeme-se-po-ZOO-e1694965351906.webp
END:VEVENT
BEGIN:VEVENT
DTSTART;TZID=Europe/Prague:20231011T100000
DTEND;TZID=Europe/Prague:20231011T110000
DTSTAMP:20260426T043756
CREATED:20230907T142945Z
LAST-MODIFIED:20230917T162050Z
UID:8754-1697018400-1697022000@mskotlaska.cz
SUMMARY:Divadélko v MŠ
DESCRIPTION:Jak se Barborka zatoulala \nAle ne! Naše kamarádka Barborka se zatoulala! Co teď? Musíme jí společně pomoci\, aby se bezpečně vrátila domů. \n\nZačátek: 10:00\nDivadlo předvede: Jana Koutová a Jaroslav Beneš
URL:https://mskotlaska.cz/event/divadelko-v-ms-6/
ATTACH;FMTTYPE=image/jpeg:https://mskotlaska.cz/wp-content/uploads/2023/09/Barborka-e1694965676699.jpg
END:VEVENT
END:VCALENDAR