BEGIN:VCALENDAR
VERSION:2.0
PRODID:-//MŠ Kotlaska - ECPv6.15.12.2//NONSGML v1.0//EN
CALSCALE:GREGORIAN
METHOD:PUBLISH
X-ORIGINAL-URL:https://mskotlaska.cz
X-WR-CALDESC:Akce na MŠ Kotlaska
REFRESH-INTERVAL;VALUE=DURATION:PT1H
X-Robots-Tag:noindex
X-PUBLISHED-TTL:PT1H
BEGIN:VTIMEZONE
TZID:Europe/Prague
BEGIN:DAYLIGHT
TZOFFSETFROM:+0100
TZOFFSETTO:+0200
TZNAME:CEST
DTSTART:20250330T010000
END:DAYLIGHT
BEGIN:STANDARD
TZOFFSETFROM:+0200
TZOFFSETTO:+0100
TZNAME:CET
DTSTART:20251026T010000
END:STANDARD
BEGIN:DAYLIGHT
TZOFFSETFROM:+0100
TZOFFSETTO:+0200
TZNAME:CEST
DTSTART:20260329T010000
END:DAYLIGHT
BEGIN:STANDARD
TZOFFSETFROM:+0200
TZOFFSETTO:+0100
TZNAME:CET
DTSTART:20261025T010000
END:STANDARD
BEGIN:DAYLIGHT
TZOFFSETFROM:+0100
TZOFFSETTO:+0200
TZNAME:CEST
DTSTART:20270328T010000
END:DAYLIGHT
BEGIN:STANDARD
TZOFFSETFROM:+0200
TZOFFSETTO:+0100
TZNAME:CET
DTSTART:20271031T010000
END:STANDARD
END:VTIMEZONE
BEGIN:VEVENT
DTSTART;TZID=Europe/Prague:20260504T080000
DTEND;TZID=Europe/Prague:20260504T110000
DTSTAMP:20260425T172359
CREATED:20260421T111006Z
LAST-MODIFIED:20260423T082734Z
UID:8181-1777881600-1777892400@mskotlaska.cz
SUMMARY:Jarní focení
DESCRIPTION:Vážení rodiče\, milí zákonní zástupci\,\nv pondělí 4. května 2026 v dopoledních hodinách proběhne v naší MŠ jarní focení. Focení proběhne třídní a je možnost objednání focení skupinek kamarádů. \nCena fotek\nTřídní fotografie – 60\,-\nSkupinová (s kamarády nebo sourozencem) fotografie – 30\,-\n– pokud děti budou chtít fotku s kamarády\, je třeba aby si fotografii odebraly všechny děti\, které budou na fotce. \nProsíme\, ve svých kmenových třídách nahlaste kolik si budete přát fotografií třídních\, popř. nahlásit skupinky. \nBudete uhrazovat až při předání hotových fotografií. \nDěkujeme. \n 
URL:https://mskotlaska.cz/event/foceni-2/
ATTACH;FMTTYPE=image/png:https://mskotlaska.cz/wp-content/uploads/2023/03/jarni-foceni-oprava-e1776771675150.png
END:VEVENT
BEGIN:VEVENT
DTSTART;TZID=Europe/Prague:20260520T103000
DTEND;TZID=Europe/Prague:20260520T113000
DTSTAMP:20260425T172359
CREATED:20250917T140010Z
LAST-MODIFIED:20250917T140010Z
UID:11317-1779273000-1779276600@mskotlaska.cz
SUMMARY:Divadélko v MŠ
DESCRIPTION:Mokrá pohádka \nStaročeská pohádka o pradlence Madlence\, vodníkovi Puškvorci a o zakletém žabím princi\, co sedí na prameni. \nZačátek: 10:30 \nDivadélko předvede: Divadlo Koloběžka
URL:https://mskotlaska.cz/event/divadelko-v-ms-22/
ATTACH;FMTTYPE=image/png:https://mskotlaska.cz/wp-content/uploads/2023/02/Vodnik-Tonik-e1758117574927.png
END:VEVENT
BEGIN:VEVENT
DTSTART;TZID=Europe/Prague:20260617T160000
DTEND;TZID=Europe/Prague:20260617T170000
DTSTAMP:20260425T172359
CREATED:20250421T102451Z
LAST-MODIFIED:20260421T114402Z
UID:11075-1781712000-1781715600@mskotlaska.cz
SUMMARY:Třídní schůzky pro rodiče nově přijatých dětí
DESCRIPTION:Vážení rodiče\, milí zákonní zástupci\,\nve středu 17. června 2026 od 16:00 proběhne ve třídě MOTÝLKŮ třídní schůzka pro nově přijaté děti. \nPokud vaše dítě patří mezi nově přijaté děti a v září 2026 nastoupí do naší MŠ\, je účast na třídních schůzkách nutná. Na třídních schůzkách se dozvíte podstatné informace\, které pro vás budou stěžejní po celý školní rok\, bude prostor i pro dotazy. \nPokud máte možnost\, prosíme abyste na schůzky přišli bez dětí. \nDěkujeme a těšíme se na vás\,\nPaní učitelky a paní ředitelka z MŠ Kotlaska.
URL:https://mskotlaska.cz/event/tridni-schuzky-pro-rodice-nove-prijatych-deti/
END:VEVENT
END:VCALENDAR