BEGIN:VCALENDAR
VERSION:2.0
PRODID:-//MŠ Kotlaska - ECPv6.15.12.2//NONSGML v1.0//EN
CALSCALE:GREGORIAN
METHOD:PUBLISH
X-WR-CALNAME:MŠ Kotlaska
X-ORIGINAL-URL:https://mskotlaska.cz
X-WR-CALDESC:Akce na MŠ Kotlaska
REFRESH-INTERVAL;VALUE=DURATION:PT1H
X-Robots-Tag:noindex
X-PUBLISHED-TTL:PT1H
BEGIN:VTIMEZONE
TZID:Europe/Prague
BEGIN:DAYLIGHT
TZOFFSETFROM:+0100
TZOFFSETTO:+0200
TZNAME:CEST
DTSTART:20250330T010000
END:DAYLIGHT
BEGIN:STANDARD
TZOFFSETFROM:+0200
TZOFFSETTO:+0100
TZNAME:CET
DTSTART:20251026T010000
END:STANDARD
BEGIN:DAYLIGHT
TZOFFSETFROM:+0100
TZOFFSETTO:+0200
TZNAME:CEST
DTSTART:20260329T010000
END:DAYLIGHT
BEGIN:STANDARD
TZOFFSETFROM:+0200
TZOFFSETTO:+0100
TZNAME:CET
DTSTART:20261025T010000
END:STANDARD
BEGIN:DAYLIGHT
TZOFFSETFROM:+0100
TZOFFSETTO:+0200
TZNAME:CEST
DTSTART:20270328T010000
END:DAYLIGHT
BEGIN:STANDARD
TZOFFSETFROM:+0200
TZOFFSETTO:+0100
TZNAME:CET
DTSTART:20271031T010000
END:STANDARD
END:VTIMEZONE
BEGIN:VEVENT
DTSTART;TZID=Europe/Prague:20260302T083000
DTEND;TZID=Europe/Prague:20260302T113000
DTSTAMP:20260425T190211
CREATED:20250106T123452Z
LAST-MODIFIED:20260209T145550Z
UID:10596-1772440200-1772451000@mskotlaska.cz
SUMMARY:Vyšetření očí v MŠ
DESCRIPTION:Vážení rodiče\, milí zákonní zástupci\, \nv pondělí 2.3.2026 v naší mateřské škole proběhne preventivní vyšetření zraku od Primavizus.  Děti přihlašujte v kmenových třídách u paní učitelek. \nCena vyšetření je 250\,- Kč – vyšetření uhradíte hned při zapsání dítěte. \nPro podrobnější informace se obracejte taktéž na paní učitelky v kmenových třídách. \nPrimaVizus – plakát \nDěkujeme za spolupráci <3
URL:https://mskotlaska.cz/event/10596/
ATTACH;FMTTYPE=image/jpeg:https://mskotlaska.cz/wp-content/uploads/2025/01/zena-oko-kresleny-700-139070137-e1770648940319.jpg
END:VEVENT
BEGIN:VEVENT
DTSTART;TZID=Europe/Prague:20260303T150000
DTEND;TZID=Europe/Prague:20260303T170000
DTSTAMP:20260425T190211
CREATED:20260120T070033Z
LAST-MODIFIED:20260209T131630Z
UID:7979-1772550000-1772557200@mskotlaska.cz
SUMMARY:Den otevřených dveří
DESCRIPTION:Vážení rodiče\, milí zákonní zástupci\,\nv naší MŠ se bude konat DEN OTEVŘENÝCH DVEŘÍ! \nKdy? Ve úterý 3. března 2026\nKde: Třída Motýlků\n \nČasová okénka:\n– 15:00 \n– 15:45\n– 16:20 \n– > návštěvníci dne otevřených dveří přijdou přesně v jednom z daných časů k ředitelně mateřské školy\, kde si Vás vyzvedneme a odvedeme do třídy Motýlků\, kde se Vám budeme věnovat a odpovídat na Vaše dotazy po dobu začátku dalšího časového okénka\, kdy se vystřídáte s následující skupinou. \nDen otevřených dveří končí v 17:00 \nPřijďte se k podívat\, jak to u nás vypadá a seznamte se chodem naší MŠ. Během návštěvy Vám budou k dispozici paní učitelky\, na které se můžete obracet se svými dotazy. \nTěšíme se na Vás!!! \n 
URL:https://mskotlaska.cz/event/den-otevrenych-dveri/
ATTACH;FMTTYPE=image/png:https://mskotlaska.cz/wp-content/uploads/2026/01/DEN-OTEVRENYCH-DVERI.png
END:VEVENT
BEGIN:VEVENT
DTSTART;TZID=Europe/Prague:20260311T100000
DTEND;TZID=Europe/Prague:20260311T110000
DTSTAMP:20260425T190211
CREATED:20250917T135637Z
LAST-MODIFIED:20250917T135707Z
UID:11314-1773223200-1773226800@mskotlaska.cz
SUMMARY:Divadélko v MŠ
DESCRIPTION:Co zaseješ to sklidíš \nPohádka o zlém sedlákovi\, kterému se nic nedaří a o jeho hodné a obětavé dceři\, které naopak v každé svízelné situaci někdo pomůže. \nCílem je ukázat dětem následky špatného chování a pokusit se je naučit\, že podle toho\, jak se budeme chovat k sobě\, k druhým a ke světu\, tak to samé se k nám vrátí. \nZačátek: 10:00 \nDivadélko předvede: Dobře naladěné divadlo
URL:https://mskotlaska.cz/event/divadelko-v-ms-21/
ATTACH;FMTTYPE=image/jpeg:https://mskotlaska.cz/wp-content/uploads/2025/09/zasejvacka_vymena-e1758117317278.jpg
END:VEVENT
BEGIN:VEVENT
DTSTART;TZID=Europe/Prague:20260331T150000
DTEND;TZID=Europe/Prague:20260331T163000
DTSTAMP:20260425T190211
CREATED:20260320T114517Z
LAST-MODIFIED:20260325T141822Z
UID:9661-1774969200-1774974600@mskotlaska.cz
SUMMARY:Velikonoční dílničky
DESCRIPTION:Vážení rodiče\, milí zákonní zástupci\, \nsrdečně Vás zveme na Velikonoční dílničky\, které se uskuteční v úterý 31. března 2026 od 15:00. \nBěhem dílniček si ve svých kmenových třídách můžete společně s dětmi vyrobit krásné velikonoční výrobky či dekorace\, které pro Vás mají paní učitelky nachystané. \nTěšíme se na Vás. \nTým MŠ
URL:https://mskotlaska.cz/event/velikonovcni-dilnicky/
ATTACH;FMTTYPE=image/png:https://mskotlaska.cz/wp-content/uploads/2026/03/dilnicky-velikonoce-e1774448293637.png
END:VEVENT
END:VCALENDAR