BEGIN:VCALENDAR
VERSION:2.0
PRODID:-//MŠ Kotlaska - ECPv6.15.12.2//NONSGML v1.0//EN
CALSCALE:GREGORIAN
METHOD:PUBLISH
X-WR-CALNAME:MŠ Kotlaska
X-ORIGINAL-URL:https://mskotlaska.cz
X-WR-CALDESC:Akce na MŠ Kotlaska
REFRESH-INTERVAL;VALUE=DURATION:PT1H
X-Robots-Tag:noindex
X-PUBLISHED-TTL:PT1H
BEGIN:VTIMEZONE
TZID:Europe/Prague
BEGIN:DAYLIGHT
TZOFFSETFROM:+0100
TZOFFSETTO:+0200
TZNAME:CEST
DTSTART:20250330T010000
END:DAYLIGHT
BEGIN:STANDARD
TZOFFSETFROM:+0200
TZOFFSETTO:+0100
TZNAME:CET
DTSTART:20251026T010000
END:STANDARD
BEGIN:DAYLIGHT
TZOFFSETFROM:+0100
TZOFFSETTO:+0200
TZNAME:CEST
DTSTART:20260329T010000
END:DAYLIGHT
BEGIN:STANDARD
TZOFFSETFROM:+0200
TZOFFSETTO:+0100
TZNAME:CET
DTSTART:20261025T010000
END:STANDARD
BEGIN:DAYLIGHT
TZOFFSETFROM:+0100
TZOFFSETTO:+0200
TZNAME:CEST
DTSTART:20270328T010000
END:DAYLIGHT
BEGIN:STANDARD
TZOFFSETFROM:+0200
TZOFFSETTO:+0100
TZNAME:CET
DTSTART:20271031T010000
END:STANDARD
END:VTIMEZONE
BEGIN:VEVENT
DTSTART;TZID=Europe/Prague:20260504T080000
DTEND;TZID=Europe/Prague:20260504T110000
DTSTAMP:20260425T185521
CREATED:20260421T111006Z
LAST-MODIFIED:20260423T082734Z
UID:8181-1777881600-1777892400@mskotlaska.cz
SUMMARY:Jarní focení
DESCRIPTION:Vážení rodiče\, milí zákonní zástupci\,\nv pondělí 4. května 2026 v dopoledních hodinách proběhne v naší MŠ jarní focení. Focení proběhne třídní a je možnost objednání focení skupinek kamarádů. \nCena fotek\nTřídní fotografie – 60\,-\nSkupinová (s kamarády nebo sourozencem) fotografie – 30\,-\n– pokud děti budou chtít fotku s kamarády\, je třeba aby si fotografii odebraly všechny děti\, které budou na fotce. \nProsíme\, ve svých kmenových třídách nahlaste kolik si budete přát fotografií třídních\, popř. nahlásit skupinky. \nBudete uhrazovat až při předání hotových fotografií. \nDěkujeme. \n 
URL:https://mskotlaska.cz/event/foceni-2/
ATTACH;FMTTYPE=image/png:https://mskotlaska.cz/wp-content/uploads/2023/03/jarni-foceni-oprava-e1776771675150.png
END:VEVENT
END:VCALENDAR