BEGIN:VCALENDAR
VERSION:2.0
PRODID:-//MŠ Kotlaska - ECPv6.15.12.2//NONSGML v1.0//EN
CALSCALE:GREGORIAN
METHOD:PUBLISH
X-WR-CALNAME:MŠ Kotlaska
X-ORIGINAL-URL:https://mskotlaska.cz
X-WR-CALDESC:Akce na MŠ Kotlaska
REFRESH-INTERVAL;VALUE=DURATION:PT1H
X-Robots-Tag:noindex
X-PUBLISHED-TTL:PT1H
BEGIN:VTIMEZONE
TZID:Europe/Prague
BEGIN:DAYLIGHT
TZOFFSETFROM:+0100
TZOFFSETTO:+0200
TZNAME:CEST
DTSTART:20250330T010000
END:DAYLIGHT
BEGIN:STANDARD
TZOFFSETFROM:+0200
TZOFFSETTO:+0100
TZNAME:CET
DTSTART:20251026T010000
END:STANDARD
BEGIN:DAYLIGHT
TZOFFSETFROM:+0100
TZOFFSETTO:+0200
TZNAME:CEST
DTSTART:20260329T010000
END:DAYLIGHT
BEGIN:STANDARD
TZOFFSETFROM:+0200
TZOFFSETTO:+0100
TZNAME:CET
DTSTART:20261025T010000
END:STANDARD
BEGIN:DAYLIGHT
TZOFFSETFROM:+0100
TZOFFSETTO:+0200
TZNAME:CEST
DTSTART:20270328T010000
END:DAYLIGHT
BEGIN:STANDARD
TZOFFSETFROM:+0200
TZOFFSETTO:+0100
TZNAME:CET
DTSTART:20271031T010000
END:STANDARD
END:VTIMEZONE
BEGIN:VEVENT
DTSTART;TZID=Europe/Prague:20260331T150000
DTEND;TZID=Europe/Prague:20260331T163000
DTSTAMP:20260425T191320
CREATED:20260320T114517Z
LAST-MODIFIED:20260325T141822Z
UID:9661-1774969200-1774974600@mskotlaska.cz
SUMMARY:Velikonoční dílničky
DESCRIPTION:Vážení rodiče\, milí zákonní zástupci\, \nsrdečně Vás zveme na Velikonoční dílničky\, které se uskuteční v úterý 31. března 2026 od 15:00. \nBěhem dílniček si ve svých kmenových třídách můžete společně s dětmi vyrobit krásné velikonoční výrobky či dekorace\, které pro Vás mají paní učitelky nachystané. \nTěšíme se na Vás. \nTým MŠ
URL:https://mskotlaska.cz/event/velikonovcni-dilnicky/
ATTACH;FMTTYPE=image/png:https://mskotlaska.cz/wp-content/uploads/2026/03/dilnicky-velikonoce-e1774448293637.png
END:VEVENT
END:VCALENDAR