BEGIN:VCALENDAR
VERSION:2.0
PRODID:-//MŠ Kotlaska - ECPv6.15.12.2//NONSGML v1.0//EN
CALSCALE:GREGORIAN
METHOD:PUBLISH
X-WR-CALNAME:MŠ Kotlaska
X-ORIGINAL-URL:https://mskotlaska.cz
X-WR-CALDESC:Akce na MŠ Kotlaska
REFRESH-INTERVAL;VALUE=DURATION:PT1H
X-Robots-Tag:noindex
X-PUBLISHED-TTL:PT1H
BEGIN:VTIMEZONE
TZID:Europe/Prague
BEGIN:DAYLIGHT
TZOFFSETFROM:+0100
TZOFFSETTO:+0200
TZNAME:CEST
DTSTART:20240331T010000
END:DAYLIGHT
BEGIN:STANDARD
TZOFFSETFROM:+0200
TZOFFSETTO:+0100
TZNAME:CET
DTSTART:20241027T010000
END:STANDARD
BEGIN:DAYLIGHT
TZOFFSETFROM:+0100
TZOFFSETTO:+0200
TZNAME:CEST
DTSTART:20250330T010000
END:DAYLIGHT
BEGIN:STANDARD
TZOFFSETFROM:+0200
TZOFFSETTO:+0100
TZNAME:CET
DTSTART:20251026T010000
END:STANDARD
BEGIN:DAYLIGHT
TZOFFSETFROM:+0100
TZOFFSETTO:+0200
TZNAME:CEST
DTSTART:20260329T010000
END:DAYLIGHT
BEGIN:STANDARD
TZOFFSETFROM:+0200
TZOFFSETTO:+0100
TZNAME:CET
DTSTART:20261025T010000
END:STANDARD
END:VTIMEZONE
BEGIN:VEVENT
DTSTART;TZID=Europe/Prague:20251217T093000
DTEND;TZID=Europe/Prague:20251217T110000
DTSTAMP:20260426T010638
CREATED:20241018T160351Z
LAST-MODIFIED:20251205T100730Z
UID:10363-1765963800-1765969200@mskotlaska.cz
SUMMARY:Kino Atlas - Motýlci a Žabičky
DESCRIPTION:Vážení rodiče\, milí zákonní zástupci\,\nv středa 17. prosince 2025 vyrazíme s mladšími třídami (Motýlci a Žabičky) do kina Atlas na Florenci. Děti se mohou těšit na pohádku “Cukrkandl” – https://www.kinoatlaspraha.cz/?program=6190 \nKino bude hradit MŠ. \nSvačinka bude v tento den posunutá na 8:00\, na oběd se vrátíme do MŠ. \nPaní učitelky z Motýlků a Žabiček.
URL:https://mskotlaska.cz/event/10363/
ATTACH;FMTTYPE=image/png:https://mskotlaska.cz/wp-content/uploads/2024/10/atlas-starsi-e1764929240736.png
END:VEVENT
END:VCALENDAR